BEGIN:VCALENDAR
VERSION:2.0
PRODID:-//Fegatri - ECPv6.15.20//NONSGML v1.0//EN
CALSCALE:GREGORIAN
METHOD:PUBLISH
X-WR-CALNAME:Fegatri
X-ORIGINAL-URL:https://fegatri.org
X-WR-CALDESC:Events for Fegatri
REFRESH-INTERVAL;VALUE=DURATION:PT1H
X-Robots-Tag:noindex
X-PUBLISHED-TTL:PT1H
BEGIN:VTIMEZONE
TZID:Europe/Madrid
BEGIN:DAYLIGHT
TZOFFSETFROM:+0100
TZOFFSETTO:+0200
TZNAME:CEST
DTSTART:20250330T010000
END:DAYLIGHT
BEGIN:STANDARD
TZOFFSETFROM:+0200
TZOFFSETTO:+0100
TZNAME:CET
DTSTART:20251026T010000
END:STANDARD
BEGIN:DAYLIGHT
TZOFFSETFROM:+0100
TZOFFSETTO:+0200
TZNAME:CEST
DTSTART:20260329T010000
END:DAYLIGHT
BEGIN:STANDARD
TZOFFSETFROM:+0200
TZOFFSETTO:+0100
TZNAME:CET
DTSTART:20261025T010000
END:STANDARD
BEGIN:DAYLIGHT
TZOFFSETFROM:+0100
TZOFFSETTO:+0200
TZNAME:CEST
DTSTART:20270328T010000
END:DAYLIGHT
BEGIN:STANDARD
TZOFFSETFROM:+0200
TZOFFSETTO:+0100
TZNAME:CET
DTSTART:20271031T010000
END:STANDARD
END:VTIMEZONE
BEGIN:VEVENT
DTSTART;VALUE=DATE:20260425
DTEND;VALUE=DATE:20260426
DTSTAMP:20260425T013049
CREATED:20260116T144422Z
LAST-MODIFIED:20260424T095846Z
UID:46117-1777075200-1777161599@fegatri.org
SUMMARY:XXVI Dúatlon Escolar de Santiago- (Final Provincia A Coruña)-XOGADE
DESCRIPTION:Ver información Técnica da proba \nVer inscrición provisional dorsalizada \nREGULAMENTO   \nVer bases que rexen a proba \nINSCRICIÓNS   \nListaxe de persoas clasificadas \nDeportistas que se teñan clasificado nas fases previas de Ferrol e Outes. Enviar excell cubertoata o 21 de abril\, ás 14:00- Ver persoas clasificadas en Ferrol(actualizaranse coa clasificación de Outes o luns 13 de abril) \nFolla-inscricion-Duatlon-Escolar-SANTIAGO.xlsx \nInformación Seguro Deportivo XOGADE: \nhttps://fegatri.org/federacion/seguro-deportivo/  \nEntregas de Premios \n-Os/as deportistas e/ou clubs que non estean na entrega de premios (salvo causa de forza maior) non os recibirán\, e serán sancionados por desconsideración ao organizador e ao resto dos deportistas (segundo os estatutos en vigor). Aquel deportista ou club que non estea presente na chamada ao podio será sancionado con 25 e 50 euros respectivamente e non poderá participar ata o seu abono.*COVID19
URL:https://fegatri.org/evento/xxvi-duatlon-escolar-de-santiago-xogade-final-provincia-a-coruna/
LOCATION:santiago de compostela
CATEGORIES:Dúatlon Escolar XOGADE 2024,Eventos 2026
ATTACH;FMTTYPE=image/png:https://fegatri.org/wp-content/uploads/2026/03/DUATLON-CIDADE-DE-SANTIAGO.png
END:VEVENT
BEGIN:VEVENT
DTSTART;VALUE=DATE:20260425
DTEND;VALUE=DATE:20260426
DTSTAMP:20260425T013049
CREATED:20260116T144615Z
LAST-MODIFIED:20260424T102149Z
UID:46118-1777075200-1777161599@fegatri.org
SUMMARY:XII Dúatlon Cidade de Santiago-Circuíto Súper Sprint CD/XV/JN e proba popular aberta
DESCRIPTION:Ver información Técnica da proba Súper Sprint \nVer información Técnica da proba Popular \nVer listaxe de persoas inscritas dorsalizada \n PROBA DO CIRCUÍTO SÚPER SPRINT CD/XV/JN-INCLUSIVA \n\nREGULAMENTO:   Ver bases que rexen a probaINSCRICIÓNS:https://event.addon-sport.com/es/xii-circuito-supersprint-cadete-xuvenil-junior-duatlon-cidade-de-santiago-2026\n\nPROBA POPULAR ABERTA SÚPER SPRINT (4000 m carreira a pé- 14700m ciclismo- 2000 carreira a pé): \n\nREGULAMENTO:   Ver bases que rexen a probaINSCRICIÓNS:  https://event.addon-sport.com/es/duatlon-cidade-de-santiago-proba-popular-aberta-2026\n\nACREDITACIÓNS TÉCNICOS: https://event.addon-sport.com/es/acreditacions-tecnicos-2026 \nInformación Seguro Deportivo: \nhttps://fegatri.org/federacion/seguro-deportivo/  \nEntregas de Premios \n-Os/as deportistas e/ou clubs que non estean na entrega de premios (salvo causa de forza maior) non os recibirán\, e serán sancionados por desconsideración ao organizador e ao resto dos deportistas (segundo os estatutos en vigor). Aquel deportista ou club que non estea presente na chamada ao podio será sancionado con 25 e 50 euros respectivamente e non poderá participar ata o seu abono.*COVID19
URL:https://fegatri.org/evento/xxii-duatlon-cidade-de-santiago-circuito-super-sprint-cd-xv-jn-e-proba-aberta-super-sprint/
LOCATION:Santiago\, Santiago\, A Coruña
CATEGORIES:Circuíto Súper Sprint,Eventos 2026
ATTACH;FMTTYPE=image/png:https://fegatri.org/wp-content/uploads/2026/03/DUATLON-CIDADE-DE-SANTIAGO.png
END:VEVENT
BEGIN:VEVENT
DTSTART;VALUE=DATE:20260425
DTEND;VALUE=DATE:20260426
DTSTAMP:20260425T013049
CREATED:20260116T144843Z
LAST-MODIFIED:20260423T103111Z
UID:46116-1777075200-1777161599@fegatri.org
SUMMARY:XXIII Dúatlon Cidade de Santiago -Campionato Xunta de Galicia de Dúatlon- (Liga Galega de Dúatlon de Estrada)/Inclusiva
DESCRIPTION:Ver información Técnica \nVer listaxe de persoas inscritas dorsalizada \nVer persoas clasficadas e invitacións Art. 4 e 5 Regulamento \nREGULAMENTO: \nVer bases que rexerán a proba \nINSCRICIÓNS:    \nParticipación por clasificación  segundo art. 4 e 5 do regulamento competicións FEGATRI 2026 – 104 prazas masculinas e 113 femininas sen clasificación outorgadas por orde de inscrición \nhttps://event.addon-sport.com/es/xxii-duatlon-cidade-de-santiago-cpto-galego-de-duatlon-2026 \nACREDITACIÓNS TÉCNICOS: https://event.addon-sport.com/es/acreditacions-tecnicos-2026 \nInformación Seguro Deportivo: \nhttps://fegatri.org/federacion/seguro-deportivo/  \nEntregas de Premios \n-Os/as deportistas e/ou clubs que non estean na entrega de premios (salvo causa de forza maior) non os recibirán\, e serán sancionados por desconsideración ao organizador e ao resto dos deportistas (segundo os estatutos en vigor). Aquel deportista ou club que non estea presente na chamada ao podio será sancionado con 25 e 50 euros respectivamente e non poderá participar ata o seu abono.*COVID19 \n 
URL:https://fegatri.org/evento/xxiii-duatlon-cidade-de-santiago/
LOCATION:Santiago\, Santiago\, A Coruña
CATEGORIES:duatlón,Eventos 2026,Liga Galega
ATTACH;FMTTYPE=image/png:https://fegatri.org/wp-content/uploads/2026/03/DUATLON-CIDADE-DE-SANTIAGO.png
END:VEVENT
BEGIN:VEVENT
DTSTART;VALUE=DATE:20260425
DTEND;VALUE=DATE:20260426
DTSTAMP:20260425T013049
CREATED:20260410T132729Z
LAST-MODIFIED:20260423T100952Z
UID:46911-1777075200-1777161599@fegatri.org
SUMMARY:Dúatlon Cidade de Santiago- Promoción Menores - PREBENXAMÍN NON COMPETITIVA
DESCRIPTION:Ver lista de persoas inscritas \nREGULAMENTO   \nVer bases que rexen a proba \nINSCRICIÓNS   \nhttps://event.addon-sport.com/es/proba-promocion-non-competitiva-prebenxamin-cidade-de-santiago-2026 \nInformación Seguro Deportivo XOGADE: \nhttps://fegatri.org/federacion/seguro-deportivo/  \nEntregas de Premios \n-Os/as deportistas e/ou clubs que non estean na entrega de premios (salvo causa de forza maior) non os recibirán\, e serán sancionados por desconsideración ao organizador e ao resto dos deportistas (segundo os estatutos en vigor). Aquel deportista ou club que non estea presente na chamada ao podio será sancionado con 25 e 50 euros respectivamente e non poderá participar ata o seu abono.*COVID19
URL:https://fegatri.org/evento/duatlon-cidade-de-santiago-promocion-menores-prebenxamin-non-competitiva/
LOCATION:santiago de compostela
CATEGORIES:Eventos 2026
ATTACH;FMTTYPE=image/png:https://fegatri.org/wp-content/uploads/2026/03/DUATLON-CIDADE-DE-SANTIAGO.png
END:VEVENT
END:VCALENDAR