BEGIN:VCALENDAR
VERSION:2.0
PRODID:-//Fegatri - ECPv6.15.20//NONSGML v1.0//EN
CALSCALE:GREGORIAN
METHOD:PUBLISH
X-ORIGINAL-URL:https://fegatri.org
X-WR-CALDESC:Events for Fegatri
REFRESH-INTERVAL;VALUE=DURATION:PT1H
X-Robots-Tag:noindex
X-PUBLISHED-TTL:PT1H
BEGIN:VTIMEZONE
TZID:Europe/Madrid
BEGIN:DAYLIGHT
TZOFFSETFROM:+0100
TZOFFSETTO:+0200
TZNAME:CEST
DTSTART:20210328T010000
END:DAYLIGHT
BEGIN:STANDARD
TZOFFSETFROM:+0200
TZOFFSETTO:+0100
TZNAME:CET
DTSTART:20211031T010000
END:STANDARD
BEGIN:DAYLIGHT
TZOFFSETFROM:+0100
TZOFFSETTO:+0200
TZNAME:CEST
DTSTART:20220327T010000
END:DAYLIGHT
BEGIN:STANDARD
TZOFFSETFROM:+0200
TZOFFSETTO:+0100
TZNAME:CET
DTSTART:20221030T010000
END:STANDARD
BEGIN:DAYLIGHT
TZOFFSETFROM:+0100
TZOFFSETTO:+0200
TZNAME:CEST
DTSTART:20230326T010000
END:DAYLIGHT
BEGIN:STANDARD
TZOFFSETFROM:+0200
TZOFFSETTO:+0100
TZNAME:CET
DTSTART:20231029T010000
END:STANDARD
END:VTIMEZONE
BEGIN:VEVENT
DTSTART;TZID=Europe/Madrid:20220313T000000
DTEND;TZID=Europe/Madrid:20220313T235959
DTSTAMP:20260422T030812
CREATED:20211025T080153Z
LAST-MODIFIED:20220309T192606Z
UID:28854-1647129600-1647215999@fegatri.org
SUMMARY:XXXI Dúatlon Cidade de Lugo-(Circuíto Dúatlon)
DESCRIPTION:Reunión Técnica da proba \nMapa de carreira \nListaxe de inscrición dorsalizada \nREGULAMENTO  REgulamento XXXI Dúatlon Cidade de Lugo \nDECLARACIÓN RESPONSABLE: \nDeclaración Responsabilidade individual Menores- Competicións COVID \nhttps://fegatri.org/wp-content/uploads/2021/03/declaracion-responsabilidade-individual-adultos-probas-1.pdf \nINSCRICIÓNS \nApertura de inscricións o luns 21 de febreiro ás 10:00 h. \nPROBA MASCULINA: https://www.rockthesport.com/es/evento/xxxiduatloncidadedelugomasculina \nPROBA FEMININA: https://www.rockthesport.com/es/evento/xxxiduatloncidadedelugofeminina \nEnlace acreditacións: \nhttps://www.rockthesport.com/es/evento/duatloncidadedelugoacreditacions \nPERCORRIDOS \n  \n \nInformación Seguro Deportivo: \nhttps://fegatri.org/federacion/seguro-deportivo/  \nEntregas de Premios \n-Os/as deportistas e/ou clubs que non estean na entrega de premios (salvo causa de forza maior) non os recibirán\, e serán sancionados por desconsideración ao organizador e ao resto dos deportistas (segundo os estatutos en vigor). Aquel deportista ou club que non estea presente na chamada ao podio será sancionado con 25 e 50 euros respectivamente e non poderá participar ata o seu abono.*COVID19
URL:https://fegatri.org/evento/xxxii-duatlon-cidade-de-lugo-circuito-duatlon/
LOCATION:Lugo\, Spain
CATEGORIES:Circuíto Dúatlon 2022
ATTACH;FMTTYPE=image/jpeg:https://fegatri.org/wp-content/uploads/2021/10/Imagen1.jpg
END:VEVENT
BEGIN:VEVENT
DTSTART;TZID=Europe/Madrid:20220319T000000
DTEND;TZID=Europe/Madrid:20220319T235959
DTSTAMP:20260422T030812
CREATED:20211025T085921Z
LAST-MODIFIED:20220318T105153Z
UID:28859-1647648000-1647734399@fegatri.org
SUMMARY:XIX Dúatlon Cidade de Santiago-(Circuíto Dúatlon Estrada)
DESCRIPTION:Presentación Reunión Técnica \nListaxe  de Inscrición con dorsais \nApertura de inscricións o venres 4 de marzo de 2022 ás 10:00h. \nREGULAMENTO  Regulamento XX Dúatlon Cidade de Santiago (Proba de Circuíto de Dúatlon de Estrada) \nINSCRICIÓNS \nSAÍDA SEN CORTE: https://www.rockthesport.com/es/evento/xixduatloncidadesantiagomasculinasencorte \nSAÍDA CON CORTE: https://www.rockthesport.com/es/evento/xixduatloncidadesantiagomasculinaconcorte \nSAÍDA FEMININA: https://www.rockthesport.com/es/evento/xixduatloncidadesantiagofeminina \n  \nEnlace acreditacións: \nhttps://www.rockthesport.com/es/evento/duatloncidadedesantiagoacreditacions \n  \nSAIDAS \nDECLARACIÓN RESPONSABLE: \nDeclaración Responsabilidade individual Menores- Competicións COVID \nhttps://fegatri.org/wp-content/uploads/2021/03/declaracion-responsabilidade-individual-adultos-probas-1.pdf \nInformación Seguro Deportivo: \nhttps://fegatri.org/federacion/seguro-deportivo/  \nEntregas de Premios \n-Os/as deportistas e/ou clubs que non estean na entrega de premios (salvo causa de forza maior) non os recibirán\, e serán sancionados por desconsideración ao organizador e ao resto dos deportistas (segundo os estatutos en vigor). Aquel deportista ou club que non estea presente na chamada ao podio será sancionado con 25 e 50 euros respectivamente e non poderá participar ata o seu abono.*COVID19
URL:https://fegatri.org/evento/xx-duatlon-cidade-de-santiago-circuito-duatlon/
LOCATION:Santiago\, Santiago\, A Coruña
CATEGORIES:Circuíto Dúatlon 2022
ATTACH;FMTTYPE=image/jpeg:https://fegatri.org/wp-content/uploads/2021/10/Cartel_2022_01_1-scaled.jpg
END:VEVENT
END:VCALENDAR