BEGIN:VCALENDAR
VERSION:2.0
PRODID:-//Fegatri - ECPv6.15.20//NONSGML v1.0//EN
CALSCALE:GREGORIAN
METHOD:PUBLISH
X-WR-CALNAME:Fegatri
X-ORIGINAL-URL:https://fegatri.org
X-WR-CALDESC:Events for Fegatri
REFRESH-INTERVAL;VALUE=DURATION:PT1H
X-Robots-Tag:noindex
X-PUBLISHED-TTL:PT1H
BEGIN:VTIMEZONE
TZID:Europe/Madrid
BEGIN:DAYLIGHT
TZOFFSETFROM:+0100
TZOFFSETTO:+0200
TZNAME:CEST
DTSTART:20220327T010000
END:DAYLIGHT
BEGIN:STANDARD
TZOFFSETFROM:+0200
TZOFFSETTO:+0100
TZNAME:CET
DTSTART:20221030T010000
END:STANDARD
BEGIN:DAYLIGHT
TZOFFSETFROM:+0100
TZOFFSETTO:+0200
TZNAME:CEST
DTSTART:20230326T010000
END:DAYLIGHT
BEGIN:STANDARD
TZOFFSETFROM:+0200
TZOFFSETTO:+0100
TZNAME:CET
DTSTART:20231029T010000
END:STANDARD
BEGIN:DAYLIGHT
TZOFFSETFROM:+0100
TZOFFSETTO:+0200
TZNAME:CEST
DTSTART:20240331T010000
END:DAYLIGHT
BEGIN:STANDARD
TZOFFSETFROM:+0200
TZOFFSETTO:+0100
TZNAME:CET
DTSTART:20241027T010000
END:STANDARD
END:VTIMEZONE
BEGIN:VEVENT
DTSTART;VALUE=DATE:20230225
DTEND;VALUE=DATE:20230226
DTSTAMP:20260422T123947
CREATED:20230201T191133Z
LAST-MODIFIED:20230223T150238Z
UID:33589-1677283200-1677369599@fegatri.org
SUMMARY:VIII Dúatlon Cros Candeán-Trasmaño/ Circuíto de Dúatlon Cros e Circuíto Súper Sprint
DESCRIPTION:Listaxe provisional de persoas inscritas dorsalizada\nListaxe provisional de persoas inscritas circuíto súper sprint (CD/XV/JN) e saída de promoción aberta\nInformación Técnica que rexerá as probas\n\nREGULAMENTO  Ver Regulamento \nINSCRICIÓNS: \nApertura de Inscrición venres 3 de febreiro ás 10:00 h. \nPROBA INDIVIDUAL: https://www.rockthesport.com/es/evento/viii-duatlon-cros-candean-estandar \nPROBA PARELLAS: https://www.rockthesport.com/es/evento/duatlncroscandenestndarparellas \nPROBA SUPERSPRINT: https://www.rockthesport.com/es/evento/datloncroscandeansupersprint \nACREDITACIÓNS TÉCNICOS: https://www.rockthesport.com/es/evento/acreditacionsduatloncroscanden \n  \n              \n  \nInformación Seguro Deportivo: \nhttps://fegatri.org/federacion/seguro-deportivo/  \nEntregas de Premios \n-Os/as deportistas e/ou clubs que non estean na entrega de premios (salvo causa de forza maior) non os recibirán\, e serán sancionados por desconsideración ao organizador e ao resto dos deportistas (segundo os estatutos en vigor). Aquel deportista ou club que non estea presente na chamada ao podio será sancionado con 25 e 50 euros respectivamente e non poderá participar ata o seu abono.*COVID19
URL:https://fegatri.org/evento/viii-duatlon-cros-candean-trasmano-circuito-de-duatlon-cros-circuito-super-sprint-e-proba-de-menores/
LOCATION:Candeán-Trasmaño\, Vigo\, PONTEVEDRA\, Spain
CATEGORIES:Circuíto Dúatlon Cros 2023,Circuíto Súper Sprint 2023,Eventos 2023,Outras probas 2023
ATTACH;FMTTYPE=image/jpeg:https://fegatri.org/wp-content/uploads/2023/02/Du-cros-candean.jpg
END:VEVENT
BEGIN:VEVENT
DTSTART;VALUE=DATE:20230225
DTEND;VALUE=DATE:20230226
DTSTAMP:20260422T123947
CREATED:20230212T160054Z
LAST-MODIFIED:20230224T114408Z
UID:33767-1677283200-1677369599@fegatri.org
SUMMARY:VIII Dúatlon Cros Candeán- Trasmaño/  Proba de Menores
DESCRIPTION:Información Técnica da Proba \nListaxe provisional de persoas inscritas probas Menores \nREGULAMENTO  Ver Regulamento \nINSCRICIÓNS: \nApertura de Inscrición venres 3 de febreiro ás 10:00 h. \nPROBA MENORES: https://www.rockthesport.com/es/evento/datloncroscandencategorasmenores \nACREDITACIÓNS TÉCNICOS: https://www.rockthesport.com/es/evento/acreditacionsduatloncroscanden \n Información Seguro Deportivo: \nhttps://fegatri.org/federacion/seguro-deportivo/  \nEntregas de Premios \n-Os/as deportistas e/ou clubs que non estean na entrega de premios (salvo causa de forza maior) non os recibirán\, e serán sancionados por desconsideración ao organizador e ao resto dos deportistas (segundo os estatutos en vigor). Aquel deportista ou club que non estea presente na chamada ao podio será sancionado con 25 e 50 euros respectivamente e non poderá participar ata o seu abono.*COVID19
URL:https://fegatri.org/evento/viii-duatlon-cros-candean-trasmano-circuito-super-sprint-cd-xv-jn-e-proba-de-menores/
LOCATION:Candeán-Trasmaño\, Vigo\, PONTEVEDRA\, Spain
CATEGORIES:Circuíto Dúatlon Cros 2023,Circuíto Súper Sprint 2023,Eventos 2023,Menores 2023,Outras probas 2023
ATTACH;FMTTYPE=image/jpeg:https://fegatri.org/wp-content/uploads/2023/02/Du-cros-candean.jpg
END:VEVENT
END:VCALENDAR