BEGIN:VCALENDAR
VERSION:2.0
PRODID:-//Fegatri - ECPv6.15.20//NONSGML v1.0//EN
CALSCALE:GREGORIAN
METHOD:PUBLISH
X-ORIGINAL-URL:https://fegatri.org
X-WR-CALDESC:Events for Fegatri
REFRESH-INTERVAL;VALUE=DURATION:PT1H
X-Robots-Tag:noindex
X-PUBLISHED-TTL:PT1H
BEGIN:VTIMEZONE
TZID:Europe/Madrid
BEGIN:DAYLIGHT
TZOFFSETFROM:+0100
TZOFFSETTO:+0200
TZNAME:CEST
DTSTART:20250330T010000
END:DAYLIGHT
BEGIN:STANDARD
TZOFFSETFROM:+0200
TZOFFSETTO:+0100
TZNAME:CET
DTSTART:20251026T010000
END:STANDARD
BEGIN:DAYLIGHT
TZOFFSETFROM:+0100
TZOFFSETTO:+0200
TZNAME:CEST
DTSTART:20260329T010000
END:DAYLIGHT
BEGIN:STANDARD
TZOFFSETFROM:+0200
TZOFFSETTO:+0100
TZNAME:CET
DTSTART:20261025T010000
END:STANDARD
BEGIN:DAYLIGHT
TZOFFSETFROM:+0100
TZOFFSETTO:+0200
TZNAME:CEST
DTSTART:20270328T010000
END:DAYLIGHT
BEGIN:STANDARD
TZOFFSETFROM:+0200
TZOFFSETTO:+0100
TZNAME:CET
DTSTART:20271031T010000
END:STANDARD
END:VTIMEZONE
BEGIN:VEVENT
DTSTART;VALUE=DATE:20260822
DTEND;VALUE=DATE:20260823
DTSTAMP:20260422T055127
CREATED:20260119T141404Z
LAST-MODIFIED:20260119T142041Z
UID:46142-1787356800-1787443199@fegatri.org
SUMMARY:XXXIV Triatlón Vila de Allariz- (Proba aberta)
DESCRIPTION:  \nREGULAMENTO   \n  \nINSCRICIÓNS: \n  \nInformación Seguro Deportivo: \nhttps://fegatri.org/federacion/seguro-deportivo/ \nPercorridos \nPERCORRIDOS  \n \n \n \n PERCORRIDO DE CARREIRA \n  \nEntregas de Premios \n-Os/as deportistas e/ou clubs que non estean na entrega de premios (salvo causa de forza maior) non os recibirán\, e serán sancionados por desconsideración ao organizador e ao resto dos deportistas (segundo os estatutos en vigor). Aquel deportista ou club que non estea presente na chamada ao podio será sancionado con 25 e 50 euros respectivamente e non poderá participar ata o seu abono.*COVID19 \n  \n 
URL:https://fegatri.org/evento/xxxiv-triatlon-vila-de-allariz-proba-aberta/
LOCATION:Allariz
CATEGORIES:Eventos 2025,Outras probas e eventos 2025,tríatlon
ATTACH;FMTTYPE=image/webp:https://fegatri.org/wp-content/uploads/2025/12/Imagen2-2-225x300-1.webp
END:VEVENT
END:VCALENDAR