BEGIN:VCALENDAR
VERSION:2.0
PRODID:-//Fegatri - ECPv6.15.20//NONSGML v1.0//EN
CALSCALE:GREGORIAN
METHOD:PUBLISH
X-ORIGINAL-URL:https://fegatri.org
X-WR-CALDESC:Events for Fegatri
REFRESH-INTERVAL;VALUE=DURATION:PT1H
X-Robots-Tag:noindex
X-PUBLISHED-TTL:PT1H
BEGIN:VTIMEZONE
TZID:Europe/Madrid
BEGIN:DAYLIGHT
TZOFFSETFROM:+0100
TZOFFSETTO:+0200
TZNAME:CEST
DTSTART:20200329T010000
END:DAYLIGHT
BEGIN:STANDARD
TZOFFSETFROM:+0200
TZOFFSETTO:+0100
TZNAME:CET
DTSTART:20201025T010000
END:STANDARD
BEGIN:DAYLIGHT
TZOFFSETFROM:+0100
TZOFFSETTO:+0200
TZNAME:CEST
DTSTART:20210328T010000
END:DAYLIGHT
BEGIN:STANDARD
TZOFFSETFROM:+0200
TZOFFSETTO:+0100
TZNAME:CET
DTSTART:20211031T010000
END:STANDARD
BEGIN:DAYLIGHT
TZOFFSETFROM:+0100
TZOFFSETTO:+0200
TZNAME:CEST
DTSTART:20220327T010000
END:DAYLIGHT
BEGIN:STANDARD
TZOFFSETFROM:+0200
TZOFFSETTO:+0100
TZNAME:CET
DTSTART:20221030T010000
END:STANDARD
END:VTIMEZONE
BEGIN:VEVENT
DTSTART;TZID=Europe/Madrid:20210515T100000
DTEND;TZID=Europe/Madrid:20210515T160000
DTSTAMP:20260423T180545
CREATED:20210104T154758Z
LAST-MODIFIED:20210515T181844Z
UID:21275-1621072800-1621094400@fegatri.org
SUMMARY:Half Triatlon Ribadeo (Proba Nacional Media Distancia)
DESCRIPTION:Half Triatlon Ribadeo (Proba Nacional Media Distancia) \nREGULAMENTO \nPáxina web do evento \nLISTADO DE SALIDAS \nINSCRITOS_HALF_TRIATLON_RIBADEO \nREUNIÓN TÉCNICA \nReunión Técnica Half Ribadeo 15-05-2021 V2 \n\nCuestionario médico de cumplimentación obligatoria(todos los deportistas\, técnicos y oficiales deberán entregarlo debidamente cumplimentado en el momento de recoger su acreditación) https://rockthesportv2.blob.core.windows.net/org2725/2020.FETRI.COVID19.Cuestionario%20M%C3%A9dico%20v7.pdf\n\nCLASIFICACIÓNS \nTRIATLON_RIBADEO \nINSCRICIÓNS \nFechas de inscripción: Del 10/02/2021 a las 0:00 al 10/05/2021 a las 23:59 \nInscríbete \nACREDITACIÓNS TECNICOS/AS E OFICIAIS \nhttps://www.rockthesport.com/es/evento/acreditacionstriatlonribadeo \nRECORRIDOS \nMáis información na páxina web do evento \nInformación Seguro Deportivo: \nhttps://fegatri.org/federacion/seguro-deportivo/  \nEntregas de Premios \n-Os/as deportistas e/ou clubs que non estean na entrega de premios (salvo causa de forza maior) non os recibirán\, e serán sancionados por desconsideración ao organizador e ao resto dos deportistas (segundo os estatutos en vigor). Aquel deportista ou club que non estea presente na chamada ao podio será sancionado con 25 e 50 euros respectivamente e non poderá participar ata o seu abono.*COVID19
URL:https://fegatri.org/evento/half-triatlon-ribadeo-proba-nacional-media-distancia/
LOCATION:Ribadeo\, Paseo Marítimo\, Ribadeo\, Lugo\, 27700\, Spain
CATEGORIES:No Draft 2021,Outras probas 2021,Tríatlon Media Distancia
ATTACH;FMTTYPE=image/jpeg:https://fegatri.org/wp-content/uploads/2021/01/Imagen2.jpg
END:VEVENT
END:VCALENDAR