BEGIN:VCALENDAR
VERSION:2.0
PRODID:-//Fegatri - ECPv6.15.20//NONSGML v1.0//EN
CALSCALE:GREGORIAN
METHOD:PUBLISH
X-WR-CALNAME:Fegatri
X-ORIGINAL-URL:https://fegatri.org
X-WR-CALDESC:Events for Fegatri
REFRESH-INTERVAL;VALUE=DURATION:PT1H
X-Robots-Tag:noindex
X-PUBLISHED-TTL:PT1H
BEGIN:VTIMEZONE
TZID:Europe/Madrid
BEGIN:DAYLIGHT
TZOFFSETFROM:+0100
TZOFFSETTO:+0200
TZNAME:CEST
DTSTART:20200329T010000
END:DAYLIGHT
BEGIN:STANDARD
TZOFFSETFROM:+0200
TZOFFSETTO:+0100
TZNAME:CET
DTSTART:20201025T010000
END:STANDARD
BEGIN:DAYLIGHT
TZOFFSETFROM:+0100
TZOFFSETTO:+0200
TZNAME:CEST
DTSTART:20210328T010000
END:DAYLIGHT
BEGIN:STANDARD
TZOFFSETFROM:+0200
TZOFFSETTO:+0100
TZNAME:CET
DTSTART:20211031T010000
END:STANDARD
BEGIN:DAYLIGHT
TZOFFSETFROM:+0100
TZOFFSETTO:+0200
TZNAME:CEST
DTSTART:20220327T010000
END:DAYLIGHT
BEGIN:STANDARD
TZOFFSETFROM:+0200
TZOFFSETTO:+0100
TZNAME:CET
DTSTART:20221030T010000
END:STANDARD
END:VTIMEZONE
BEGIN:VEVENT
DTSTART;TZID=Europe/Madrid:20210627T000000
DTEND;TZID=Europe/Madrid:20210627T000000
DTSTAMP:20260423T163727
CREATED:20210104T152856Z
LAST-MODIFIED:20210625T071516Z
UID:21228-1624752000-1624752000@fegatri.org
SUMMARY:VII Northwest Triman (Campionato Xunta de Galicia de Longa e Popular Media Distancia)- Proba Nacional Ranking Media e Longa Distancia
DESCRIPTION:PROBA NACIONAL PUNTUABLE PARA O RANKING DE MEDIA E LONGA DISTANCIA \nCPTO GALEGO DE LONGA DISTANCIA E PROBA DO CIRCUÍTO NO DRAFT 2021  \nREGULAMENTO/ INSCRICIÓNS   \nhttps://northwesttriman.com/ \nREUNIÓN TÉCNICA \nVer Reunión Técnica  \nLISTAXES: \nInscricion Northwest LD V5 por apelidos \nInscricion Northwest LD V5 por dorsal \nInscricion Northwest MD V5 por apelidos \nInscricion Northwest MD V5 por dorsal \nLIGAZÓN ACREDITACIÓNS TÉCNICOS E OFICIAIS: \nhttps://www.rockthesport.com/es/evento/acreditacionsnorthwesttrimanaspontes \nInformación Seguro Deportivo: \nhttps://fegatri.org/federacion/seguro-deportivo/  \nEntregas de Premios \n-Os/as deportistas e/ou clubs que non estean na entrega de premios (salvo causa de forza maior) non os recibirán\, e serán sancionados por desconsideración ao organizador e ao resto dos deportistas (segundo os estatutos en vigor). Aquel deportista ou club que non estea presente na chamada ao podio será sancionado con 25 e 50 euros respectivamente e non poderá participar ata o seu abono.*COVID19 \n\n  \n\n  \n\n 
URL:https://fegatri.org/evento/vii-northwest-triman-campionato-xunta-de-galicia-de-longa-e-popular-media-distancia/
LOCATION:Lugo
CATEGORIES:Campionato Galego 2021,No Draft 2021,Outras probas 2021,Tríatlon Longa Distancia,Tríatlon Media Distancia
ATTACH;FMTTYPE=image/png:https://fegatri.org/wp-content/uploads/2021/01/Imagen2-3.png
END:VEVENT
END:VCALENDAR