BEGIN:VCALENDAR
VERSION:2.0
PRODID:-//Fegatri - ECPv6.15.20//NONSGML v1.0//EN
CALSCALE:GREGORIAN
METHOD:PUBLISH
X-WR-CALNAME:Fegatri
X-ORIGINAL-URL:https://fegatri.org
X-WR-CALDESC:Events for Fegatri
REFRESH-INTERVAL;VALUE=DURATION:PT1H
X-Robots-Tag:noindex
X-PUBLISHED-TTL:PT1H
BEGIN:VTIMEZONE
TZID:Europe/Madrid
BEGIN:DAYLIGHT
TZOFFSETFROM:+0100
TZOFFSETTO:+0200
TZNAME:CEST
DTSTART:20210328T010000
END:DAYLIGHT
BEGIN:STANDARD
TZOFFSETFROM:+0200
TZOFFSETTO:+0100
TZNAME:CET
DTSTART:20211031T010000
END:STANDARD
BEGIN:DAYLIGHT
TZOFFSETFROM:+0100
TZOFFSETTO:+0200
TZNAME:CEST
DTSTART:20220327T010000
END:DAYLIGHT
BEGIN:STANDARD
TZOFFSETFROM:+0200
TZOFFSETTO:+0100
TZNAME:CET
DTSTART:20221030T010000
END:STANDARD
BEGIN:DAYLIGHT
TZOFFSETFROM:+0100
TZOFFSETTO:+0200
TZNAME:CEST
DTSTART:20230326T010000
END:DAYLIGHT
BEGIN:STANDARD
TZOFFSETFROM:+0200
TZOFFSETTO:+0100
TZNAME:CET
DTSTART:20231029T010000
END:STANDARD
END:VTIMEZONE
BEGIN:VEVENT
DTSTART;TZID=Europe/Madrid:20220626T000000
DTEND;TZID=Europe/Madrid:20220626T235959
DTSTAMP:20260422T223454
CREATED:20210928T065841Z
LAST-MODIFIED:20220622T172509Z
UID:28653-1656201600-1656287999@fegatri.org
SUMMARY:VIII Northwest Triman 2022 (Campionato Xunta de Galicia LD-Proba popular aberta de MD)-
DESCRIPTION:Proba do Ranking Nacional de Media e Longa Distancia \nInformación Técnica da proba \nLISTADOS: \nLD-por-Apellidos.pdf \nLD-por-Dorsal.pdf \nMD-por-Apellidos.pdf \nMD-por-Dorsal.pdf \n  \nREGULAMENTO E INSCRICIÓNS \nhttps://northwesttriman.com/ \nACREDITACIÓNS OFICIAIS E  PERSOAS TÉCNICAS \nhttps://www.rockthesport.com/es/evento/northwesttrimanaspontesacreditacions/inscripcion/selecciona-tarifa \n  \nInformación Seguro Deportivo: \nhttps://fegatri.org/federacion/seguro-deportivo/  \nEntregas de Premios \n-Os/as deportistas e/ou clubs que non estean na entrega de premios (salvo causa de forza maior) non os recibirán\, e serán sancionados por desconsideración ao organizador e ao resto dos deportistas (segundo os estatutos en vigor). Aquel deportista ou club que non estea presente na chamada ao podio será sancionado con 25 e 50 euros respectivamente e non poderá participar ata o seu abono.*COVID19 \n\n  \n\n  \n\n 
URL:https://fegatri.org/evento/viii-northwest-triman-2022-longa-e-media-distancia/
LOCATION:Lugo
CATEGORIES:Campionato Galego 2022,Tríatlon Longa Distancia,Tríatlon Media Distancia
ATTACH;FMTTYPE=image/jpeg:https://fegatri.org/wp-content/uploads/2021/09/thumbnail_cartel2022conpatro.jpg
END:VEVENT
END:VCALENDAR