BEGIN:VCALENDAR
VERSION:2.0
PRODID:-//Fegatri - ECPv6.15.20//NONSGML v1.0//EN
CALSCALE:GREGORIAN
METHOD:PUBLISH
X-WR-CALNAME:Fegatri
X-ORIGINAL-URL:https://fegatri.org
X-WR-CALDESC:Events for Fegatri
REFRESH-INTERVAL;VALUE=DURATION:PT1H
X-Robots-Tag:noindex
X-PUBLISHED-TTL:PT1H
BEGIN:VTIMEZONE
TZID:Europe/Madrid
BEGIN:DAYLIGHT
TZOFFSETFROM:+0100
TZOFFSETTO:+0200
TZNAME:CEST
DTSTART:20210328T010000
END:DAYLIGHT
BEGIN:STANDARD
TZOFFSETFROM:+0200
TZOFFSETTO:+0100
TZNAME:CET
DTSTART:20211031T010000
END:STANDARD
BEGIN:DAYLIGHT
TZOFFSETFROM:+0100
TZOFFSETTO:+0200
TZNAME:CEST
DTSTART:20220327T010000
END:DAYLIGHT
BEGIN:STANDARD
TZOFFSETFROM:+0200
TZOFFSETTO:+0100
TZNAME:CET
DTSTART:20221030T010000
END:STANDARD
BEGIN:DAYLIGHT
TZOFFSETFROM:+0100
TZOFFSETTO:+0200
TZNAME:CEST
DTSTART:20230326T010000
END:DAYLIGHT
BEGIN:STANDARD
TZOFFSETFROM:+0200
TZOFFSETTO:+0100
TZNAME:CET
DTSTART:20231029T010000
END:STANDARD
END:VTIMEZONE
BEGIN:VEVENT
DTSTART;TZID=Europe/Madrid:20220703T000000
DTEND;TZID=Europe/Madrid:20220703T235959
DTSTAMP:20260421T200756
CREATED:20211025T104138Z
LAST-MODIFIED:20220630T171654Z
UID:28904-1656806400-1656892799@fegatri.org
SUMMARY:XXXIII Tríatlon do Miño (Circuíto Tríatlon)
DESCRIPTION:  \nInformación Técnica da Competición \nListaxe de persoas inscritas \nREGULAMENTO  Regulamento da proba Tri do Miño 2022 \nPERCORRIDOS: \nhttps://racemapp.com/proyecto/175-triatlon-del-mino \nINSCRICIÓNS: \nApertura de inscricións o  luns 6 de xuño ás 10:00 h.-           Proba con dereitos de circuíto (200 prazas masculinas e 200 prazas femininas) \nSAIDA MASCULINA: https://www.rockthesport.com/es/evento/triatlondominomasculina \nSAIDA FEMININA:  https://www.rockthesport.com/es/evento/triatlondominofeminina \n  \nEnlace acreditacións: \nhttps://www.rockthesport.com/es/evento/triatlondominoacreditacions \nInformación Seguro Deportivo: \nhttps://fegatri.org/federacion/seguro-deportivo/  \nEntregas de Premios \n-Os/as deportistas e/ou clubs que non estean na entrega de premios (salvo causa de forza maior) non os recibirán\, e serán sancionados por desconsideración ao organizador e ao resto dos deportistas (segundo os estatutos en vigor). Aquel deportista ou club que non estea presente na chamada ao podio será sancionado con 25 e 50 euros respectivamente e non poderá participar ata o seu abono.*COVID19
URL:https://fegatri.org/evento/xxxiii-triatlon-do-mino-circuito-triatlon/
LOCATION:Lugo\, Spain
CATEGORIES:Circuíto Tríatlon Estrada 2022
ATTACH;FMTTYPE=image/png:https://fegatri.org/wp-content/uploads/2021/10/Tri-mino.png
END:VEVENT
END:VCALENDAR